BEGIN:VCALENDAR
VERSION:2.0
PRODID:-//Tukios.com/
BEGIN:VEVENT
UID:9143138c-9706-4060-9d28-0d082ae53ea5@www.colquittfuneralhome.info
DTSTAMP:20260422T121456Z
DTSTART:20260423T040000Z
DTEND:20260423T050000Z
SUMMARY:Funeral Service
DESCRIPTION:
URL:https://www.colquittfuneralhome.info/obituaries/cynthia-long
LOCATION:2271 Bellview Rd 2271 Bellview Rd  Colquitt GA 39837
GEO:31.165607;-84.579527
END:VEVENT
END:VCALENDAR