BEGIN:VCALENDAR
VERSION:2.0
PRODID:-//Tukios.com/
BEGIN:VEVENT
UID:159991c9-1f18-406c-bd18-42ca1d6be0b8@www.colquittfuneralhome.info
DTSTAMP:20260422T122606Z
DTSTART:20260423T150000Z
DTEND:20260423T160000Z
SUMMARY:Funeral Service
DESCRIPTION:
URL:https://www.colquittfuneralhome.info/obituaries/cynthia-long
LOCATION: 2271 Bellview Rd  Colquitt GA 39837
GEO:31.1655958;-84.5795554
END:VEVENT
END:VCALENDAR